BEGIN:VCALENDAR
VERSION:2.0
PRODID:-//SmartCity Corporation - ECPv6.15.15//NONSGML v1.0//EN
CALSCALE:GREGORIAN
METHOD:PUBLISH
X-WR-CALNAME:SmartCity Corporation
X-ORIGINAL-URL:https://smartcitycorporation.it
X-WR-CALDESC:Eventi per SmartCity Corporation
REFRESH-INTERVAL;VALUE=DURATION:PT1H
X-Robots-Tag:noindex
X-PUBLISHED-TTL:PT1H
BEGIN:VTIMEZONE
TZID:UTC
BEGIN:STANDARD
TZOFFSETFROM:+0000
TZOFFSETTO:+0000
TZNAME:UTC
DTSTART:20210101T000000
END:STANDARD
END:VTIMEZONE
BEGIN:VEVENT
DTSTART;TZID=UTC:20231128T120000
DTEND;TZID=UTC:20231128T140000
DTSTAMP:20260420T133749
CREATED:20231127T205545Z
LAST-MODIFIED:20231127T211927Z
UID:5458-1701172800-1701180000@smartcitycorporation.it
SUMMARY:Da "La Smart City e La Città Comoda" a "Be Smart in The City"
DESCRIPTION:
URL:https://smartcitycorporation.it/evento/da-la-smart-city-e-la-citta-comoda-a-be-smart-in-the-city/
ATTACH;FMTTYPE=image/jpeg:https://smartcitycorporation.it/wp-content/uploads/2023/11/Evento-Catania.jpg
END:VEVENT
BEGIN:VEVENT
DTSTART;TZID=UTC:20230921T160000
DTEND;TZID=UTC:20230921T180000
DTSTAMP:20260420T133749
CREATED:20230914T175725Z
LAST-MODIFIED:20230914T175726Z
UID:5216-1695312000-1695319200@smartcitycorporation.it
SUMMARY:Il Metaverso | Oggi è già domani\, la nuova frontiera degli investimenti.
DESCRIPTION:
URL:https://smartcitycorporation.it/evento/il-metaverso-oggi-e-gia-domani-la-nuova-frontiera-degli-investimenti/
ATTACH;FMTTYPE=image/jpeg:https://smartcitycorporation.it/wp-content/uploads/2023/09/ilMetaverso.jpg
END:VEVENT
BEGIN:VEVENT
DTSTART;TZID=UTC:20230903T170000
DTEND;TZID=UTC:20230903T190000
DTSTAMP:20260420T133749
CREATED:20230910T122638Z
LAST-MODIFIED:20230910T122639Z
UID:5143-1693760400-1693767600@smartcitycorporation.it
SUMMARY:La Costruzione di Alysia
DESCRIPTION:
URL:https://smartcitycorporation.it/evento/la-costruzione-di-alysia/
ATTACH;FMTTYPE=image/jpeg:https://smartcitycorporation.it/wp-content/uploads/2023/09/PHOTO-2023-09-09-18-55-44.jpg
END:VEVENT
BEGIN:VEVENT
DTSTART;TZID=UTC:20230811T193000
DTEND;TZID=UTC:20230811T220000
DTSTAMP:20260420T133749
CREATED:20230910T122451Z
LAST-MODIFIED:20230910T122452Z
UID:5137-1691782200-1691791200@smartcitycorporation.it
SUMMARY:La Città Intelligente: Dalla costruzione all'abitare
DESCRIPTION:
URL:https://smartcitycorporation.it/evento/la-citta-intelligente-dalla-costruzione-allabitare/
ATTACH;FMTTYPE=image/jpeg:https://smartcitycorporation.it/wp-content/uploads/2023/09/PHOTO-2023-09-09-18-54-58.jpg
END:VEVENT
BEGIN:VEVENT
DTSTART;TZID=UTC:20230808T203000
DTEND;TZID=UTC:20230808T223000
DTSTAMP:20260420T133749
CREATED:20230910T122550Z
LAST-MODIFIED:20230910T122551Z
UID:5140-1691526600-1691533800@smartcitycorporation.it
SUMMARY:La Smart City e la Città comoda
DESCRIPTION:
URL:https://smartcitycorporation.it/evento/la-smart-city-e-la-citta-comoda-2/
ATTACH;FMTTYPE=image/jpeg:https://smartcitycorporation.it/wp-content/uploads/2023/09/PHOTO-2023-09-09-18-54-59.jpg
END:VEVENT
BEGIN:VEVENT
DTSTART;TZID=UTC:20230717T080000
DTEND;TZID=UTC:20230722T170000
DTSTAMP:20260420T133749
CREATED:20230914T175200Z
LAST-MODIFIED:20230914T175201Z
UID:5206-1689580800-1690045200@smartcitycorporation.it
SUMMARY:Settimana dell'Africa
DESCRIPTION:
URL:https://smartcitycorporation.it/evento/settimana-dellafrica/
ATTACH;FMTTYPE=image/png:https://smartcitycorporation.it/wp-content/uploads/2023/09/settimana-dellafrica.png
END:VEVENT
BEGIN:VEVENT
DTSTART;TZID=UTC:20230623T080000
DTEND;TZID=UTC:20230623T170000
DTSTAMP:20260420T133749
CREATED:20230910T120233Z
LAST-MODIFIED:20230910T120234Z
UID:5133-1687507200-1687539600@smartcitycorporation.it
SUMMARY:Smart Cities e Città Sostenibili
DESCRIPTION:
URL:https://smartcitycorporation.it/evento/smart-cities-e-citta-sostenibili/
ATTACH;FMTTYPE=image/png:https://smartcitycorporation.it/wp-content/uploads/2023/08/conferenza-23-giugno-2023-PMI-1.png
END:VEVENT
BEGIN:VEVENT
DTSTART;TZID=UTC:20230605T160000
DTEND;TZID=UTC:20230605T180000
DTSTAMP:20260420T133749
CREATED:20230910T121954Z
LAST-MODIFIED:20230910T121955Z
UID:5135-1685980800-1685988000@smartcitycorporation.it
SUMMARY:La Smart City e la città comoda
DESCRIPTION:
URL:https://smartcitycorporation.it/evento/la-smart-city-e-la-citta-comoda/
ATTACH;FMTTYPE=image/png:https://smartcitycorporation.it/wp-content/uploads/2023/08/0.png
END:VEVENT
BEGIN:VEVENT
DTSTART;TZID=UTC:20221103T180000
DTEND;TZID=UTC:20221103T193000
DTSTAMP:20260420T133749
CREATED:20230910T131144Z
LAST-MODIFIED:20230914T174838Z
UID:5180-1667498400-1667503800@smartcitycorporation.it
SUMMARY:Presentazione Libro “La Smart City e La Città Comoda”
DESCRIPTION:Smart City Corporation è lieta di invitare la S.V. alla Presentazione del libro di: ‘La Smart City e La Città Comoda’ \n\n\n\nGiulia Agrosì e coautori \n\n\n\nUna Nuova Realtà Futurista ‘Smartiana’
URL:https://smartcitycorporation.it/evento/presentazione-libro-la-smart-city-e-la-citta-comoda/
LOCATION:La Feltrinelli\, Via Melo da Bari\, 119\, Bari\, 70122\, Italia
ATTACH;FMTTYPE=image/jpeg:https://smartcitycorporation.it/wp-content/uploads/2022/10/Smartcity-corporation-1.jpg
END:VEVENT
END:VCALENDAR